BEGIN:VCALENDAR
VERSION:2.0
PRODID:icalendar-ruby
CALSCALE:GREGORIAN
METHOD:PUBLISH
BEGIN:VEVENT
DTSTAMP:20260420T040025Z
UID:41-290514@russellvillemethodist.org
DTSTART:20260624T221500Z
DTEND:20260625T000000Z
CLASS:PUBLIC
CREATED:20260419T222947
DESCRIPTION:You're invited to an evening of connection\, learning\, and enc
 ouragement!\nDinner will be served at 5:15 PM in the Ministry Center.  \n
 (Please sign up by Monday at 9:00 AM so we can prepare for everyone.)\nCla
 sses begin at 6:00 PM and include: \nMoneyLife: Biblical and practical gu
 idance for managing finances with purpose\nThe Book of Jude: A small but p
 owerful book centered on staying true to our faith and guarding against fa
 lse teachers\nCome enjoy a warm meal\, build meaningful relationships\, an
 d grow together in a welcoming environment. There's something for everyone
 -we'd love to have you join us!\nWe will start a new study in June! We hop
 e you will join us for a nine-week study with J.D. Greear on the book of E
 phesians. \n \n 
LAST-MODIFIED:20260419T222947
LOCATION:Ministry Center
SUMMARY:Wonderful Wednesdays Bible Study
URL;VALUE=URI:https://russellvillemethodist.org/events/wonderful-wednesdays
 -bible-study/2026-06-24
ATTACH;FILENAME=Bible study.png;FMTTYPE=image/png:https://dq5pwpg1q8ru0.clo
 udfront.net/2026/04/11/18/06/42/26315e44-bd75-484e-ba9a-b09fff94704a/Bible
 %20study.png
END:VEVENT
END:VCALENDAR
